BEGIN:VCALENDAR
VERSION:2.0
PRODID:-//Yeshivat Shaare Torah - ECPv6.14.2//NONSGML v1.0//EN
CALSCALE:GREGORIAN
METHOD:PUBLISH
X-ORIGINAL-URL:https://www.yeshivatshaaretorah.com
X-WR-CALDESC:Events for Yeshivat Shaare Torah
REFRESH-INTERVAL;VALUE=DURATION:PT1H
X-Robots-Tag:noindex
X-PUBLISHED-TTL:PT1H
BEGIN:VTIMEZONE
TZID:America/New_York
BEGIN:DAYLIGHT
TZOFFSETFROM:-0500
TZOFFSETTO:-0400
TZNAME:EDT
DTSTART:20180311T070000
END:DAYLIGHT
BEGIN:STANDARD
TZOFFSETFROM:-0400
TZOFFSETTO:-0500
TZNAME:EST
DTSTART:20181104T060000
END:STANDARD
END:VTIMEZONE
BEGIN:VEVENT
DTSTART;VALUE=DATE:20181217
DTEND;VALUE=DATE:20181219
DTSTAMP:20260425T112510
CREATED:20180702T020853Z
LAST-MODIFIED:20180710T170833Z
UID:1027-1545073200-1545159599@www.yeshivatshaaretorah.com
SUMMARY:Fast of Tevet
DESCRIPTION:Early Dismissal\nPreschool and BES 12:00 Dismissal\nGES 12:15 Dismissal\nGHS AM Sessions only\nBHS Post Minha Dismissal
URL:https://www.yeshivatshaaretorah.com/event/fast-of-tevet/
END:VEVENT
END:VCALENDAR