BEGIN:VCALENDAR
VERSION:2.0
PRODID:-//Yeshivat Shaare Torah - ECPv6.14.2//NONSGML v1.0//EN
CALSCALE:GREGORIAN
METHOD:PUBLISH
X-ORIGINAL-URL:https://www.yeshivatshaaretorah.com
X-WR-CALDESC:Events for Yeshivat Shaare Torah
REFRESH-INTERVAL;VALUE=DURATION:PT1H
X-Robots-Tag:noindex
X-PUBLISHED-TTL:PT1H
BEGIN:VTIMEZONE
TZID:America/New_York
BEGIN:DAYLIGHT
TZOFFSETFROM:-0500
TZOFFSETTO:-0400
TZNAME:EDT
DTSTART:20190310T070000
END:DAYLIGHT
BEGIN:STANDARD
TZOFFSETFROM:-0400
TZOFFSETTO:-0500
TZNAME:EST
DTSTART:20191103T060000
END:STANDARD
END:VTIMEZONE
BEGIN:VEVENT
DTSTART;TZID=America/New_York:20190102T150000
DTEND;TZID=America/New_York:20190102T163000
DTSTAMP:20260420T005234
CREATED:20190103T010416Z
LAST-MODIFIED:20190103T010416Z
UID:1290-1546441200-1546446600@www.yeshivatshaaretorah.com
SUMMARY:PTA Paint Night
DESCRIPTION:PTA Paint Night \n  \nTo Sign up\, pls call 718.613.9558
URL:https://www.yeshivatshaaretorah.com/event/pta-paint-night/
END:VEVENT
END:VCALENDAR