BEGIN:VCALENDAR
VERSION:2.0
PRODID:-//Yeshivat Shaare Torah - ECPv6.14.2//NONSGML v1.0//EN
CALSCALE:GREGORIAN
METHOD:PUBLISH
X-WR-CALNAME:Yeshivat Shaare Torah
X-ORIGINAL-URL:https://www.yeshivatshaaretorah.com
X-WR-CALDESC:Events for Yeshivat Shaare Torah
REFRESH-INTERVAL;VALUE=DURATION:PT1H
X-Robots-Tag:noindex
X-PUBLISHED-TTL:PT1H
BEGIN:VTIMEZONE
TZID:America/New_York
BEGIN:DAYLIGHT
TZOFFSETFROM:-0500
TZOFFSETTO:-0400
TZNAME:EDT
DTSTART:20190310T070000
END:DAYLIGHT
BEGIN:STANDARD
TZOFFSETFROM:-0400
TZOFFSETTO:-0500
TZNAME:EST
DTSTART:20191103T060000
END:STANDARD
END:VTIMEZONE
BEGIN:VEVENT
DTSTART;VALUE=DATE:20190319
DTEND;VALUE=DATE:20190321
DTSTAMP:20260419T221758
CREATED:20180705T193810Z
LAST-MODIFIED:20180705T193810Z
UID:1052-1553025600-1553111999@www.yeshivatshaaretorah.com
SUMMARY:Fast of Esther
DESCRIPTION:Fast of Esther\nPreschool & BES 12:00 Dismissal\nGES 12:15 Dismissal\nGHS AM Sessions only\nBHS Post Minha Dismissal
URL:https://www.yeshivatshaaretorah.com/event/fast-of-esther/
END:VEVENT
BEGIN:VEVENT
DTSTART;VALUE=DATE:20190320
DTEND;VALUE=DATE:20190322
DTSTAMP:20260419T221758
CREATED:20180705T193900Z
LAST-MODIFIED:20180705T193900Z
UID:1054-1553112000-1553198399@www.yeshivatshaaretorah.com
SUMMARY:Purim
DESCRIPTION:No Sessions
URL:https://www.yeshivatshaaretorah.com/event/purim/
END:VEVENT
END:VCALENDAR