BEGIN:VCALENDAR
VERSION:2.0
PRODID:-//Yeshivat Shaare Torah - ECPv6.14.2//NONSGML v1.0//EN
CALSCALE:GREGORIAN
METHOD:PUBLISH
X-ORIGINAL-URL:https://www.yeshivatshaaretorah.com
X-WR-CALDESC:Events for Yeshivat Shaare Torah
REFRESH-INTERVAL;VALUE=DURATION:PT1H
X-Robots-Tag:noindex
X-PUBLISHED-TTL:PT1H
BEGIN:VTIMEZONE
TZID:America/New_York
BEGIN:DAYLIGHT
TZOFFSETFROM:-0500
TZOFFSETTO:-0400
TZNAME:EDT
DTSTART:20190310T070000
END:DAYLIGHT
BEGIN:STANDARD
TZOFFSETFROM:-0400
TZOFFSETTO:-0500
TZNAME:EST
DTSTART:20191103T060000
END:STANDARD
END:VTIMEZONE
BEGIN:VEVENT
DTSTART;VALUE=DATE:20190903
DTEND;VALUE=DATE:20190905
DTSTAMP:20260419T135419
CREATED:20190529T153332Z
LAST-MODIFIED:20190701T165334Z
UID:1375-1567540800-1567627199@www.yeshivatshaaretorah.com
SUMMARY:Welcome Back!
DESCRIPTION:Preschool Orientation /ES & HS First Day \nPreschool 3’s\, 4’s\, 5’s (girls)Orientation \nGES & GHS First full Day of School \nBES: 12:00 Dismissal \n1st grade 10:00 Start \nBHS: Student Orientation\, Dismissal TBA
URL:https://www.yeshivatshaaretorah.com/event/preschool-orientation-es-hs-first-day/
ATTACH;FMTTYPE=image/jpeg:https://www.yeshivatshaaretorah.com/wp-content/uploads/2019/05/first_day_of_school-e1559129595897.jpeg
END:VEVENT
BEGIN:VEVENT
DTSTART;VALUE=DATE:20190904
DTEND;VALUE=DATE:20190906
DTSTAMP:20260419T135419
CREATED:20190529T161621Z
LAST-MODIFIED:20190807T230741Z
UID:1380-1567627200-1567713599@www.yeshivatshaaretorah.com
SUMMARY:Toddler Orientation\, 3's Staggered Sessions
DESCRIPTION:Toddlers Orientation \n3’s Staggered Sessions \n4’s & 5’s Regular Sessions
URL:https://www.yeshivatshaaretorah.com/event/preschool-staggered-sessions/
END:VEVENT
END:VCALENDAR