BEGIN:VCALENDAR
VERSION:2.0
PRODID:-//Yeshivat Shaare Torah - ECPv6.14.2//NONSGML v1.0//EN
CALSCALE:GREGORIAN
METHOD:PUBLISH
X-WR-CALNAME:Yeshivat Shaare Torah
X-ORIGINAL-URL:https://www.yeshivatshaaretorah.com
X-WR-CALDESC:Events for Yeshivat Shaare Torah
REFRESH-INTERVAL;VALUE=DURATION:PT1H
X-Robots-Tag:noindex
X-PUBLISHED-TTL:PT1H
BEGIN:VTIMEZONE
TZID:America/New_York
BEGIN:DAYLIGHT
TZOFFSETFROM:-0500
TZOFFSETTO:-0400
TZNAME:EDT
DTSTART:20190310T070000
END:DAYLIGHT
BEGIN:STANDARD
TZOFFSETFROM:-0400
TZOFFSETTO:-0500
TZNAME:EST
DTSTART:20191103T060000
END:STANDARD
END:VTIMEZONE
BEGIN:VEVENT
DTSTART;TZID=America/New_York:20190916T153000
DTEND;TZID=America/New_York:20190916T153000
DTSTAMP:20260419T135253
CREATED:20190529T162226Z
LAST-MODIFIED:20190529T162302Z
UID:1392-1568647800-1568647800@www.yeshivatshaaretorah.com
SUMMARY:BHS Freshmen Orientation Evening
DESCRIPTION:Boys High School Freshmen Orientation Evening
URL:https://www.yeshivatshaaretorah.com/event/bhs-freshmen-orientation-evening/
LOCATION:Boy’s High School Building\, 1680 coney Island ave\, Brooklyn\, NY\, 11230\, United States
END:VEVENT
END:VCALENDAR