BEGIN:VCALENDAR
VERSION:2.0
PRODID:-//Yeshivat Shaare Torah - ECPv6.14.2//NONSGML v1.0//EN
CALSCALE:GREGORIAN
METHOD:PUBLISH
X-ORIGINAL-URL:https://www.yeshivatshaaretorah.com
X-WR-CALDESC:Events for Yeshivat Shaare Torah
REFRESH-INTERVAL;VALUE=DURATION:PT1H
X-Robots-Tag:noindex
X-PUBLISHED-TTL:PT1H
BEGIN:VTIMEZONE
TZID:America/New_York
BEGIN:DAYLIGHT
TZOFFSETFROM:-0500
TZOFFSETTO:-0400
TZNAME:EDT
DTSTART:20190310T070000
END:DAYLIGHT
BEGIN:STANDARD
TZOFFSETFROM:-0400
TZOFFSETTO:-0500
TZNAME:EST
DTSTART:20191103T060000
END:STANDARD
END:VTIMEZONE
BEGIN:VEVENT
DTSTART;TZID=America/New_York:20191120T070000
DTEND;TZID=America/New_York:20191120T080000
DTSTAMP:20260419T105450
CREATED:20191118T060344Z
LAST-MODIFIED:20191118T060758Z
UID:1739-1574233200-1574236800@www.yeshivatshaaretorah.com
SUMMARY:Parenting Workshop
DESCRIPTION:Parenting Workshop \nat the home of \nMrs. Nina Tawil \n12:00 \nGiven by Mrs. Linda Chabbott
URL:https://www.yeshivatshaaretorah.com/event/parenting-workshop/
END:VEVENT
BEGIN:VEVENT
DTSTART;TZID=America/New_York:20191120T143000
DTEND;TZID=America/New_York:20191120T170000
DTSTAMP:20260419T105450
CREATED:20191105T232644Z
LAST-MODIFIED:20191105T232705Z
UID:1708-1574260200-1574269200@www.yeshivatshaaretorah.com
SUMMARY:Boys High School Parent Teacher Conference
DESCRIPTION:
URL:https://www.yeshivatshaaretorah.com/event/boys-high-school-parent-teacher-conferece/
END:VEVENT
END:VCALENDAR