BEGIN:VCALENDAR
VERSION:2.0
PRODID:-//Yeshivat Shaare Torah - ECPv6.14.2//NONSGML v1.0//EN
CALSCALE:GREGORIAN
METHOD:PUBLISH
X-WR-CALNAME:Yeshivat Shaare Torah
X-ORIGINAL-URL:https://www.yeshivatshaaretorah.com
X-WR-CALDESC:Events for Yeshivat Shaare Torah
REFRESH-INTERVAL;VALUE=DURATION:PT1H
X-Robots-Tag:noindex
X-PUBLISHED-TTL:PT1H
BEGIN:VTIMEZONE
TZID:America/New_York
BEGIN:DAYLIGHT
TZOFFSETFROM:-0500
TZOFFSETTO:-0400
TZNAME:EDT
DTSTART:20190310T070000
END:DAYLIGHT
BEGIN:STANDARD
TZOFFSETFROM:-0400
TZOFFSETTO:-0500
TZNAME:EST
DTSTART:20191103T060000
END:STANDARD
END:VTIMEZONE
BEGIN:VEVENT
DTSTART;VALUE=DATE:20191206
DTEND;VALUE=DATE:20191208
DTSTAMP:20260423T072022
CREATED:20190617T060156Z
LAST-MODIFIED:20190617T060156Z
UID:1475-1575658800-1575745199@www.yeshivatshaaretorah.com
SUMMARY:Fifth Grade Sebbat
DESCRIPTION:Fifth Grade Sebbat
URL:https://www.yeshivatshaaretorah.com/event/fifth-grade-sebbat/
LOCATION:Boys Elementary Division\, 1680 Coney Island Ave
END:VEVENT
BEGIN:VEVENT
DTSTART;VALUE=DATE:20191207
DTEND;VALUE=DATE:20191209
DTSTAMP:20260423T072022
CREATED:20190606T233316Z
LAST-MODIFIED:20190606T233316Z
UID:1453-1575745200-1575831599@www.yeshivatshaaretorah.com
SUMMARY:Girls High School Open House
DESCRIPTION:Girls High School Open House \nFor more information\, please call 718.382.4000
URL:https://www.yeshivatshaaretorah.com/event/girls-high-school-open-house-2/
LOCATION:Girls High School\, 1768 Ocean Ave
END:VEVENT
END:VCALENDAR