BEGIN:VCALENDAR
VERSION:2.0
PRODID:-//Yeshivat Shaare Torah - ECPv6.14.2//NONSGML v1.0//EN
CALSCALE:GREGORIAN
METHOD:PUBLISH
X-ORIGINAL-URL:https://www.yeshivatshaaretorah.com
X-WR-CALDESC:Events for Yeshivat Shaare Torah
REFRESH-INTERVAL;VALUE=DURATION:PT1H
X-Robots-Tag:noindex
X-PUBLISHED-TTL:PT1H
BEGIN:VTIMEZONE
TZID:America/New_York
BEGIN:DAYLIGHT
TZOFFSETFROM:-0500
TZOFFSETTO:-0400
TZNAME:EDT
DTSTART:20190310T070000
END:DAYLIGHT
BEGIN:STANDARD
TZOFFSETFROM:-0400
TZOFFSETTO:-0500
TZNAME:EST
DTSTART:20191103T060000
END:STANDARD
END:VTIMEZONE
BEGIN:VEVENT
DTSTART;TZID=America/New_York:20191211T140000
DTEND;TZID=America/New_York:20191211T150000
DTSTAMP:20260421T054451
CREATED:20190606T233406Z
LAST-MODIFIED:20190606T233436Z
UID:1455-1576072800-1576076400@www.yeshivatshaaretorah.com
SUMMARY:Girls Elementary/Preschool PT Conference
DESCRIPTION:Girls Elementary/Preschool PT Conference
URL:https://www.yeshivatshaaretorah.com/event/boys-elementary-pt-conference/
END:VEVENT
BEGIN:VEVENT
DTSTART;VALUE=DATE:20191211
DTEND;VALUE=DATE:20191213
DTSTAMP:20260421T054451
CREATED:20191102T000204Z
LAST-MODIFIED:20191102T000204Z
UID:1678-1576090800-1576177199@www.yeshivatshaaretorah.com
SUMMARY:Girls High School Chinese Auction
DESCRIPTION:Girls High School Chinese Auction \nFor more information call 718.382.4000
URL:https://www.yeshivatshaaretorah.com/event/girls-high-school-chinese-auction-3/
END:VEVENT
END:VCALENDAR