BEGIN:VCALENDAR
VERSION:2.0
PRODID:-//Yeshivat Shaare Torah - ECPv6.14.2//NONSGML v1.0//EN
CALSCALE:GREGORIAN
METHOD:PUBLISH
X-ORIGINAL-URL:https://www.yeshivatshaaretorah.com
X-WR-CALDESC:Events for Yeshivat Shaare Torah
REFRESH-INTERVAL;VALUE=DURATION:PT1H
X-Robots-Tag:noindex
X-PUBLISHED-TTL:PT1H
BEGIN:VTIMEZONE
TZID:America/New_York
BEGIN:DAYLIGHT
TZOFFSETFROM:-0500
TZOFFSETTO:-0400
TZNAME:EDT
DTSTART:20190310T070000
END:DAYLIGHT
BEGIN:STANDARD
TZOFFSETFROM:-0400
TZOFFSETTO:-0500
TZNAME:EST
DTSTART:20191103T060000
END:STANDARD
END:VTIMEZONE
BEGIN:VEVENT
DTSTART;TZID=America/New_York:20191225T040000
DTEND;TZID=America/New_York:20191225T053000
DTSTAMP:20260423T070747
CREATED:20190606T233852Z
LAST-MODIFIED:20190617T065557Z
UID:1462-1577246400-1577251800@www.yeshivatshaaretorah.com
SUMMARY:1st Grade Boys Humash Celebration/BHS Hannuka Mesiba
DESCRIPTION:1st Grade Boys Humash Celebration \nBHS Hannuka Mesiba- Early Dismissal
URL:https://www.yeshivatshaaretorah.com/event/1st-grade-boys-humash-celebration/
END:VEVENT
END:VCALENDAR