BEGIN:VCALENDAR
VERSION:2.0
PRODID:-//Yeshivat Shaare Torah - ECPv6.14.2//NONSGML v1.0//EN
CALSCALE:GREGORIAN
METHOD:PUBLISH
X-ORIGINAL-URL:https://www.yeshivatshaaretorah.com
X-WR-CALDESC:Events for Yeshivat Shaare Torah
REFRESH-INTERVAL;VALUE=DURATION:PT1H
X-Robots-Tag:noindex
X-PUBLISHED-TTL:PT1H
BEGIN:VTIMEZONE
TZID:America/New_York
BEGIN:DAYLIGHT
TZOFFSETFROM:-0500
TZOFFSETTO:-0400
TZNAME:EDT
DTSTART:20250309T070000
END:DAYLIGHT
BEGIN:STANDARD
TZOFFSETFROM:-0400
TZOFFSETTO:-0500
TZNAME:EST
DTSTART:20251102T060000
END:STANDARD
END:VTIMEZONE
BEGIN:VEVENT
DTSTART;VALUE=DATE:20251121
DTEND;VALUE=DATE:20251122
DTSTAMP:20260425T205100
CREATED:20250713T224708Z
LAST-MODIFIED:20250713T224708Z
UID:504072-1763683200-1763769599@www.yeshivatshaaretorah.com
SUMMARY:Parashat Toldot 4:15
DESCRIPTION:Parashat Toldot 4:15
URL:https://www.yeshivatshaaretorah.com/event/parashat-toldot-415/
END:VEVENT
BEGIN:VEVENT
DTSTART;VALUE=DATE:20251121
DTEND;VALUE=DATE:20251122
DTSTAMP:20260425T205100
CREATED:20250713T224758Z
LAST-MODIFIED:20250713T224758Z
UID:504074-1763683200-1763769599@www.yeshivatshaaretorah.com
SUMMARY:Rosh Chodesh Kislev
DESCRIPTION:Rosh Chodesh Kislev
URL:https://www.yeshivatshaaretorah.com/event/rosh-chodesh-kislev/
END:VEVENT
END:VCALENDAR