BEGIN:VCALENDAR
VERSION:2.0
PRODID:-//Yeshivat Shaare Torah - ECPv6.14.2//NONSGML v1.0//EN
CALSCALE:GREGORIAN
METHOD:PUBLISH
X-ORIGINAL-URL:https://www.yeshivatshaaretorah.com
X-WR-CALDESC:Events for Yeshivat Shaare Torah
REFRESH-INTERVAL;VALUE=DURATION:PT1H
X-Robots-Tag:noindex
X-PUBLISHED-TTL:PT1H
BEGIN:VTIMEZONE
TZID:America/New_York
BEGIN:DAYLIGHT
TZOFFSETFROM:-0500
TZOFFSETTO:-0400
TZNAME:EDT
DTSTART:20250309T070000
END:DAYLIGHT
BEGIN:STANDARD
TZOFFSETFROM:-0400
TZOFFSETTO:-0500
TZNAME:EST
DTSTART:20251102T060000
END:STANDARD
END:VTIMEZONE
BEGIN:VEVENT
DTSTART;VALUE=DATE:20251210
DTEND;VALUE=DATE:20251211
DTSTAMP:20260425T181726
CREATED:20250713T212629Z
LAST-MODIFIED:20250713T212629Z
UID:503969-1765324800-1765411199@www.yeshivatshaaretorah.com
SUMMARY:GES/Preschool Parent Conference
DESCRIPTION:GES/Preschool Parent Conference
URL:https://www.yeshivatshaaretorah.com/event/ges-preschool-parent-conference/
END:VEVENT
BEGIN:VEVENT
DTSTART;VALUE=DATE:20251210
DTEND;VALUE=DATE:20251211
DTSTAMP:20260425T181726
CREATED:20251103T183043Z
LAST-MODIFIED:20251103T184345Z
UID:504191-1765324800-1765411199@www.yeshivatshaaretorah.com
SUMMARY:GES 2nd grade Chanukah Play
DESCRIPTION:GES 2nd grade Chanukah Play
URL:https://www.yeshivatshaaretorah.com/event/ges-2nd-grade-chanukah-play-3/
END:VEVENT
END:VCALENDAR