BEGIN:VCALENDAR
VERSION:2.0
PRODID:-//Yeshivat Shaare Torah - ECPv6.14.2//NONSGML v1.0//EN
CALSCALE:GREGORIAN
METHOD:PUBLISH
X-ORIGINAL-URL:https://www.yeshivatshaaretorah.com
X-WR-CALDESC:Events for Yeshivat Shaare Torah
REFRESH-INTERVAL;VALUE=DURATION:PT1H
X-Robots-Tag:noindex
X-PUBLISHED-TTL:PT1H
BEGIN:VTIMEZONE
TZID:America/New_York
BEGIN:DAYLIGHT
TZOFFSETFROM:-0500
TZOFFSETTO:-0400
TZNAME:EDT
DTSTART:20190310T070000
END:DAYLIGHT
BEGIN:STANDARD
TZOFFSETFROM:-0400
TZOFFSETTO:-0500
TZNAME:EST
DTSTART:20191103T060000
END:STANDARD
END:VTIMEZONE
BEGIN:VEVENT
DTSTART;VALUE=DATE:20190929
DTEND;VALUE=DATE:20191002
DTSTAMP:20260419T105517
CREATED:20190529T162733Z
LAST-MODIFIED:20190529T162733Z
UID:1402-1569787200-1569959999@www.yeshivatshaaretorah.com
SUMMARY:Rosh Hashana
DESCRIPTION:Rosh Hashana          \nNo sessions
URL:https://www.yeshivatshaaretorah.com/event/rosh-hashana-3/
END:VEVENT
BEGIN:VEVENT
DTSTART;VALUE=DATE:20191001
DTEND;VALUE=DATE:20191003
DTSTAMP:20260419T105517
CREATED:20190529T162853Z
LAST-MODIFIED:20190606T231936Z
UID:1404-1569960000-1570046399@www.yeshivatshaaretorah.com
SUMMARY:Tzom Gedalia - Early Dismissal
DESCRIPTION:Tzom Gedaliah \nPreschool & BES – 12:00 Dismissal \nGES 12:15 Dismissal \nBHS Post Minha Dismissal \nGHS AM Sessions Only
URL:https://www.yeshivatshaaretorah.com/event/tzom-gedallia-early-dismissal/
END:VEVENT
BEGIN:VEVENT
DTSTART;VALUE=DATE:20191007
DTEND;VALUE=DATE:20191009
DTSTAMP:20260419T105517
CREATED:20190617T055411Z
LAST-MODIFIED:20190617T055411Z
UID:1468-1570478400-1570564799@www.yeshivatshaaretorah.com
SUMMARY:Erev Yom Kippur No Sessions
DESCRIPTION:Erev Yom Kippur
URL:https://www.yeshivatshaaretorah.com/event/erev-yom-kippur-no-sessions/
END:VEVENT
BEGIN:VEVENT
DTSTART;VALUE=DATE:20191008
DTEND;VALUE=DATE:20191010
DTSTAMP:20260419T105517
CREATED:20190617T055445Z
LAST-MODIFIED:20190617T055445Z
UID:1470-1570564800-1570651199@www.yeshivatshaaretorah.com
SUMMARY:Yom Kippur No Sessions
DESCRIPTION:Yom Kippur No Sessions
URL:https://www.yeshivatshaaretorah.com/event/yom-kippur-no-sessions/
END:VEVENT
BEGIN:VEVENT
DTSTART;VALUE=DATE:20191010
DTEND;VALUE=DATE:20191012
DTSTAMP:20260419T105517
CREATED:20190529T163047Z
LAST-MODIFIED:20190617T065252Z
UID:1408-1570737600-1570823999@www.yeshivatshaaretorah.com
SUMMARY:No Sessions
DESCRIPTION:No Sessions All Divisions
URL:https://www.yeshivatshaaretorah.com/event/preschool-ges-ghsno-sessions/
END:VEVENT
BEGIN:VEVENT
DTSTART;VALUE=DATE:20191013
DTEND;VALUE=DATE:20191024
DTSTAMP:20260419T105517
CREATED:20190529T163143Z
LAST-MODIFIED:20190807T233116Z
UID:1410-1570996800-1571860799@www.yeshivatshaaretorah.com
SUMMARY:Sukkot
DESCRIPTION:
URL:https://www.yeshivatshaaretorah.com/event/sukkot-recess/
END:VEVENT
BEGIN:VEVENT
DTSTART;VALUE=DATE:20191022
DTEND;VALUE=DATE:20191024
DTSTAMP:20260419T105517
CREATED:20190619T060831Z
LAST-MODIFIED:20190709T051503Z
UID:1556-1571774400-1571860799@www.yeshivatshaaretorah.com
SUMMARY:Isru Chag -No Sessions
DESCRIPTION:
URL:https://www.yeshivatshaaretorah.com/event/isru-chag-schedule-tba/
END:VEVENT
END:VCALENDAR