BEGIN:VCALENDAR
VERSION:2.0
PRODID:-//Yeshivat Shaare Torah - ECPv6.14.2//NONSGML v1.0//EN
CALSCALE:GREGORIAN
METHOD:PUBLISH
X-WR-CALNAME:Yeshivat Shaare Torah
X-ORIGINAL-URL:https://www.yeshivatshaaretorah.com
X-WR-CALDESC:Events for Yeshivat Shaare Torah
REFRESH-INTERVAL;VALUE=DURATION:PT1H
X-Robots-Tag:noindex
X-PUBLISHED-TTL:PT1H
BEGIN:VTIMEZONE
TZID:America/New_York
BEGIN:DAYLIGHT
TZOFFSETFROM:-0500
TZOFFSETTO:-0400
TZNAME:EDT
DTSTART:20250309T070000
END:DAYLIGHT
BEGIN:STANDARD
TZOFFSETFROM:-0400
TZOFFSETTO:-0500
TZNAME:EST
DTSTART:20251102T060000
END:STANDARD
END:VTIMEZONE
BEGIN:VEVENT
DTSTART;VALUE=DATE:20251001
DTEND;VALUE=DATE:20251002
DTSTAMP:20260425T194213
CREATED:20250713T205937Z
LAST-MODIFIED:20250713T205937Z
UID:503941-1759276800-1759363199@www.yeshivatshaaretorah.com
SUMMARY:Erev Yom Kippur\, No Sessions
DESCRIPTION:Erev Yom Kippur\, No Sessions
URL:https://www.yeshivatshaaretorah.com/event/erev-yom-kippur-no-sessions-2/
END:VEVENT
BEGIN:VEVENT
DTSTART;VALUE=DATE:20251002
DTEND;VALUE=DATE:20251003
DTSTAMP:20260425T194213
CREATED:20250713T210030Z
LAST-MODIFIED:20250713T210030Z
UID:503943-1759363200-1759449599@www.yeshivatshaaretorah.com
SUMMARY:Yom Kippur\, No Sessions
DESCRIPTION:Yom Kippur\, No Sessions
URL:https://www.yeshivatshaaretorah.com/event/yom-kippur-no-sessions-4/
END:VEVENT
BEGIN:VEVENT
DTSTART;VALUE=DATE:20251003
DTEND;VALUE=DATE:20251004
DTSTAMP:20260425T194213
CREATED:20250713T210426Z
LAST-MODIFIED:20250713T210426Z
UID:503945-1759449600-1759535999@www.yeshivatshaaretorah.com
SUMMARY:T\,P\,GES\,GHS No Sessions
DESCRIPTION:Toddler\,Preschool\,GES\,GHS No Sessions \nBES/BHS Regular Sessions
URL:https://www.yeshivatshaaretorah.com/event/tpgesghs-no-sessions/
END:VEVENT
BEGIN:VEVENT
DTSTART;VALUE=DATE:20251003
DTEND;VALUE=DATE:20251004
DTSTAMP:20260425T194213
CREATED:20250713T223506Z
LAST-MODIFIED:20250713T223605Z
UID:504055-1759449600-1759535999@www.yeshivatshaaretorah.com
SUMMARY:Parashat Ha'azinu 6:16
DESCRIPTION:Parashat Ha’azinu 6:16
URL:https://www.yeshivatshaaretorah.com/event/parashat-haazini-616/
END:VEVENT
BEGIN:VEVENT
DTSTART;VALUE=DATE:20251005
DTEND;VALUE=DATE:20251006
DTSTAMP:20260425T194213
CREATED:20250713T210554Z
LAST-MODIFIED:20250713T210554Z
UID:503947-1759622400-1759708799@www.yeshivatshaaretorah.com
SUMMARY:BES/BHS No Sessions
DESCRIPTION:BES/BHS No Sessions
URL:https://www.yeshivatshaaretorah.com/event/bes-bhs-no-sessions-2/
END:VEVENT
BEGIN:VEVENT
DTSTART;VALUE=DATE:20251006
DTEND;VALUE=DATE:20251017
DTSTAMP:20260425T194213
CREATED:20250713T210709Z
LAST-MODIFIED:20250713T210709Z
UID:503949-1759708800-1760659199@www.yeshivatshaaretorah.com
SUMMARY:Sukkot\, No Sessions
DESCRIPTION:Sukkot\, No Sessions
URL:https://www.yeshivatshaaretorah.com/event/sukkot-no-sessions-4/
END:VEVENT
BEGIN:VEVENT
DTSTART;VALUE=DATE:20251010
DTEND;VALUE=DATE:20251011
DTSTAMP:20260425T194213
CREATED:20250713T223655Z
LAST-MODIFIED:20250713T223655Z
UID:504058-1760054400-1760140799@www.yeshivatshaaretorah.com
SUMMARY:Parashat Sukkot 6:04
DESCRIPTION:Parashat Sukkot 6:04
URL:https://www.yeshivatshaaretorah.com/event/parashat-sukkot-604/
END:VEVENT
BEGIN:VEVENT
DTSTART;VALUE=DATE:20251017
DTEND;VALUE=DATE:20251018
DTSTAMP:20260425T194213
CREATED:20250713T210834Z
LAST-MODIFIED:20250713T210834Z
UID:503951-1760659200-1760745599@www.yeshivatshaaretorah.com
SUMMARY:Sessions Resume
DESCRIPTION:Sessions Resume
URL:https://www.yeshivatshaaretorah.com/event/sessions-resume-9/
END:VEVENT
BEGIN:VEVENT
DTSTART;VALUE=DATE:20251017
DTEND;VALUE=DATE:20251018
DTSTAMP:20260425T194213
CREATED:20250713T223828Z
LAST-MODIFIED:20250713T223828Z
UID:504060-1760659200-1760745599@www.yeshivatshaaretorah.com
SUMMARY:Parashat Beresheit 5:54
DESCRIPTION:Parashat Beresheit 5:54
URL:https://www.yeshivatshaaretorah.com/event/parashat-beresheit-554/
END:VEVENT
BEGIN:VEVENT
DTSTART;VALUE=DATE:20251022
DTEND;VALUE=DATE:20251024
DTSTAMP:20260425T194213
CREATED:20250713T224559Z
LAST-MODIFIED:20250810T032122Z
UID:504070-1761091200-1761263999@www.yeshivatshaaretorah.com
SUMMARY:Rosh Chodesh Cheshvan *GES 6th grade Breakfast Orientation
DESCRIPTION:Rosh Chodesh Cheshvan \nGES 6th grade Breakfast Orientation 
URL:https://www.yeshivatshaaretorah.com/event/rosh-chodesh-cheshvan/
END:VEVENT
BEGIN:VEVENT
DTSTART;VALUE=DATE:20251024
DTEND;VALUE=DATE:20251025
DTSTAMP:20260425T194213
CREATED:20250713T224056Z
LAST-MODIFIED:20250713T224056Z
UID:504062-1761264000-1761350399@www.yeshivatshaaretorah.com
SUMMARY:Parashat Noach 5:44
DESCRIPTION:Parashat Noach 5:44
URL:https://www.yeshivatshaaretorah.com/event/parashat-noach-544/
END:VEVENT
BEGIN:VEVENT
DTSTART;VALUE=DATE:20251031
DTEND;VALUE=DATE:20251101
DTSTAMP:20260425T194213
CREATED:20250713T224148Z
LAST-MODIFIED:20250713T224148Z
UID:504064-1761868800-1761955199@www.yeshivatshaaretorah.com
SUMMARY:Parashat Lech-Lecha 5:35
DESCRIPTION:Parashat Lech-Lecha 5:35
URL:https://www.yeshivatshaaretorah.com/event/parashat-lech-lecha-535/
END:VEVENT
END:VCALENDAR