BEGIN:VCALENDAR
VERSION:2.0
PRODID:-//Yeshivat Shaare Torah - ECPv6.14.2//NONSGML v1.0//EN
CALSCALE:GREGORIAN
METHOD:PUBLISH
X-ORIGINAL-URL:https://www.yeshivatshaaretorah.com
X-WR-CALDESC:Events for Yeshivat Shaare Torah
REFRESH-INTERVAL;VALUE=DURATION:PT1H
X-Robots-Tag:noindex
X-PUBLISHED-TTL:PT1H
BEGIN:VTIMEZONE
TZID:America/New_York
BEGIN:DAYLIGHT
TZOFFSETFROM:-0500
TZOFFSETTO:-0400
TZNAME:EDT
DTSTART:20250309T070000
END:DAYLIGHT
BEGIN:STANDARD
TZOFFSETFROM:-0400
TZOFFSETTO:-0500
TZNAME:EST
DTSTART:20251102T060000
END:STANDARD
END:VTIMEZONE
BEGIN:VEVENT
DTSTART;VALUE=DATE:20251101
DTEND;VALUE=DATE:20251102
DTSTAMP:20260425T181721
CREATED:20250713T211045Z
LAST-MODIFIED:20250713T211045Z
UID:503953-1761955200-1762041599@www.yeshivatshaaretorah.com
SUMMARY:Daylight Savings Time
DESCRIPTION:Daylight Savings Time
URL:https://www.yeshivatshaaretorah.com/event/daylight-savings-time-9/
END:VEVENT
BEGIN:VEVENT
DTSTART;VALUE=DATE:20251107
DTEND;VALUE=DATE:20251108
DTSTAMP:20260425T181721
CREATED:20250713T224312Z
LAST-MODIFIED:20250713T224312Z
UID:504066-1762473600-1762559999@www.yeshivatshaaretorah.com
SUMMARY:Parashat Vayera 4:27
DESCRIPTION:Parashat Vayera 4:27
URL:https://www.yeshivatshaaretorah.com/event/parashat-vayera-427/
END:VEVENT
BEGIN:VEVENT
DTSTART;VALUE=DATE:20251108
DTEND;VALUE=DATE:20251109
DTSTAMP:20260425T181721
CREATED:20250713T211214Z
LAST-MODIFIED:20250713T211214Z
UID:503955-1762560000-1762646399@www.yeshivatshaaretorah.com
SUMMARY:BES Motzae Shabbat Program begins
DESCRIPTION:BES Motzae Shabbat Program begins
URL:https://www.yeshivatshaaretorah.com/event/bes-motzae-shabbat-program-begins-3/
END:VEVENT
BEGIN:VEVENT
DTSTART;VALUE=DATE:20251111
DTEND;VALUE=DATE:20251112
DTSTAMP:20260425T181721
CREATED:20250713T211659Z
LAST-MODIFIED:20250713T211659Z
UID:503959-1762819200-1762905599@www.yeshivatshaaretorah.com
SUMMARY:Veterans Day/Staff Development Day
DESCRIPTION:Veterans Day/Staff Development Day \nToddler\, Preschool\, GES No Sessions \nBES 12:00 Dismissal \nBHS/GHS Regular Sessions
URL:https://www.yeshivatshaaretorah.com/event/veterans-day-staff-development-day/
END:VEVENT
BEGIN:VEVENT
DTSTART;VALUE=DATE:20251113
DTEND;VALUE=DATE:20251114
DTSTAMP:20260425T181721
CREATED:20251103T182956Z
LAST-MODIFIED:20251103T182956Z
UID:504189-1762992000-1763078399@www.yeshivatshaaretorah.com
SUMMARY:GES 3rd grade Rashi Play
DESCRIPTION:GES 3rd grade Rashi Play
URL:https://www.yeshivatshaaretorah.com/event/ges-3rd-grade-rashi-play-3/
END:VEVENT
BEGIN:VEVENT
DTSTART;VALUE=DATE:20251114
DTEND;VALUE=DATE:20251115
DTSTAMP:20260425T181721
CREATED:20250713T224419Z
LAST-MODIFIED:20250713T224419Z
UID:504068-1763078400-1763164799@www.yeshivatshaaretorah.com
SUMMARY:Parashat Chayei Sara 4:20
DESCRIPTION:Parashat Chayei Sara 4:20
URL:https://www.yeshivatshaaretorah.com/event/parashat-chayei-sara-420/
END:VEVENT
BEGIN:VEVENT
DTSTART;VALUE=DATE:20251121
DTEND;VALUE=DATE:20251122
DTSTAMP:20260425T181721
CREATED:20250713T224708Z
LAST-MODIFIED:20250713T224708Z
UID:504072-1763683200-1763769599@www.yeshivatshaaretorah.com
SUMMARY:Parashat Toldot 4:15
DESCRIPTION:Parashat Toldot 4:15
URL:https://www.yeshivatshaaretorah.com/event/parashat-toldot-415/
END:VEVENT
BEGIN:VEVENT
DTSTART;VALUE=DATE:20251121
DTEND;VALUE=DATE:20251122
DTSTAMP:20260425T181721
CREATED:20250713T224758Z
LAST-MODIFIED:20250713T224758Z
UID:504074-1763683200-1763769599@www.yeshivatshaaretorah.com
SUMMARY:Rosh Chodesh Kislev
DESCRIPTION:Rosh Chodesh Kislev
URL:https://www.yeshivatshaaretorah.com/event/rosh-chodesh-kislev/
END:VEVENT
BEGIN:VEVENT
DTSTART;VALUE=DATE:20251123
DTEND;VALUE=DATE:20251124
DTSTAMP:20260425T181721
CREATED:20250713T211856Z
LAST-MODIFIED:20250713T211856Z
UID:503961-1763856000-1763942399@www.yeshivatshaaretorah.com
SUMMARY:BES Avot U'Banim Grades 2-4
DESCRIPTION:BES Avot U’Banim Grades 2-4
URL:https://www.yeshivatshaaretorah.com/event/bes-avot-ubanim-grades-2-4-2/
END:VEVENT
BEGIN:VEVENT
DTSTART;VALUE=DATE:20251127
DTEND;VALUE=DATE:20251128
DTSTAMP:20260425T181721
CREATED:20250713T212301Z
LAST-MODIFIED:20250713T212301Z
UID:503963-1764201600-1764287999@www.yeshivatshaaretorah.com
SUMMARY:Thanksgiving\, Half Day/ Preschool Daddy Day
DESCRIPTION:Thanksgiving\, Half Day/ Preschool Daddy Day \n12:00 Dismissal Toddler\, Preschool \n12:15 Dismissal BES/GES \nBHS Post Minha Dismissal \nGHS AM Sessions Only
URL:https://www.yeshivatshaaretorah.com/event/thanksgiving-half-day-preschool-daddy-day/
END:VEVENT
BEGIN:VEVENT
DTSTART;VALUE=DATE:20251128
DTEND;VALUE=DATE:20251129
DTSTAMP:20260425T181721
CREATED:20250713T224848Z
LAST-MODIFIED:20250713T224848Z
UID:504076-1764288000-1764374399@www.yeshivatshaaretorah.com
SUMMARY:Parashat Vayetzei 4:12
DESCRIPTION:Parashat Vayetzei 4:12
URL:https://www.yeshivatshaaretorah.com/event/parashat-vayetzei-412/
END:VEVENT
END:VCALENDAR