BEGIN:VCALENDAR
VERSION:2.0
PRODID:-//Yeshivat Shaare Torah - ECPv6.14.2//NONSGML v1.0//EN
CALSCALE:GREGORIAN
METHOD:PUBLISH
X-WR-CALNAME:Yeshivat Shaare Torah
X-ORIGINAL-URL:https://www.yeshivatshaaretorah.com
X-WR-CALDESC:Events for Yeshivat Shaare Torah
REFRESH-INTERVAL;VALUE=DURATION:PT1H
X-Robots-Tag:noindex
X-PUBLISHED-TTL:PT1H
BEGIN:VTIMEZONE
TZID:America/New_York
BEGIN:DAYLIGHT
TZOFFSETFROM:-0500
TZOFFSETTO:-0400
TZNAME:EDT
DTSTART:20260308T070000
END:DAYLIGHT
BEGIN:STANDARD
TZOFFSETFROM:-0400
TZOFFSETTO:-0500
TZNAME:EST
DTSTART:20261101T060000
END:STANDARD
END:VTIMEZONE
BEGIN:VEVENT
DTSTART;VALUE=DATE:20260101
DTEND;VALUE=DATE:20260102
DTSTAMP:20260425T165228
CREATED:20250713T213607Z
LAST-MODIFIED:20250713T213607Z
UID:503977-1767225600-1767311999@www.yeshivatshaaretorah.com
SUMMARY:BES 1st Grade Humash Performance
DESCRIPTION:BES 1st Grade Humash Performance
URL:https://www.yeshivatshaaretorah.com/event/bes-1st-grade-humash-performance-4/
END:VEVENT
BEGIN:VEVENT
DTSTART;VALUE=DATE:20260102
DTEND;VALUE=DATE:20260103
DTSTAMP:20260425T165228
CREATED:20250713T225343Z
LAST-MODIFIED:20250713T225343Z
UID:504088-1767312000-1767398399@www.yeshivatshaaretorah.com
SUMMARY:Parashat Vayechi 4:22
DESCRIPTION:Parashat Vayechi 4:22
URL:https://www.yeshivatshaaretorah.com/event/parashat-vayechi-422/
END:VEVENT
BEGIN:VEVENT
DTSTART;VALUE=DATE:20260104
DTEND;VALUE=DATE:20260105
DTSTAMP:20260425T165228
CREATED:20251103T183206Z
LAST-MODIFIED:20251103T183206Z
UID:504195-1767484800-1767571199@www.yeshivatshaaretorah.com
SUMMARY:GES PRODUCTION\, call for tickets 718-437-6120
DESCRIPTION:GES PRODUCTION\, call for tickets 718-437-6120
URL:https://www.yeshivatshaaretorah.com/event/ges-production-call-for-tickets-718-437-6120/
END:VEVENT
BEGIN:VEVENT
DTSTART;VALUE=DATE:20260109
DTEND;VALUE=DATE:20260110
DTSTAMP:20260425T165228
CREATED:20250713T225432Z
LAST-MODIFIED:20250713T225432Z
UID:504090-1767916800-1768003199@www.yeshivatshaaretorah.com
SUMMARY:Parashat Shemot 4:29
DESCRIPTION:Parashat Shemot 4:29
URL:https://www.yeshivatshaaretorah.com/event/parashat-shemot-429/
END:VEVENT
BEGIN:VEVENT
DTSTART;VALUE=DATE:20260116
DTEND;VALUE=DATE:20260117
DTSTAMP:20260425T165228
CREATED:20250713T225514Z
LAST-MODIFIED:20250713T225514Z
UID:504092-1768521600-1768607999@www.yeshivatshaaretorah.com
SUMMARY:Parashat Vaera 4:36
DESCRIPTION:Parashat Vaera 4:36
URL:https://www.yeshivatshaaretorah.com/event/parashat-vaera-436/
END:VEVENT
BEGIN:VEVENT
DTSTART;VALUE=DATE:20260119
DTEND;VALUE=DATE:20260120
DTSTAMP:20260425T165228
CREATED:20250713T225602Z
LAST-MODIFIED:20250713T225602Z
UID:504094-1768780800-1768867199@www.yeshivatshaaretorah.com
SUMMARY:Rosh Chodesh Sh'vat
DESCRIPTION:Rosh Chodesh Sh’vat
URL:https://www.yeshivatshaaretorah.com/event/rosh-chodesh-shvat/
END:VEVENT
BEGIN:VEVENT
DTSTART;VALUE=DATE:20260121
DTEND;VALUE=DATE:20260127
DTSTAMP:20260425T165228
CREATED:20250713T213721Z
LAST-MODIFIED:20250713T213721Z
UID:503979-1768953600-1769471999@www.yeshivatshaaretorah.com
SUMMARY:Midwinter Vacation
DESCRIPTION:Midwinter Vacation
URL:https://www.yeshivatshaaretorah.com/event/midwinter-vacation-7/
END:VEVENT
BEGIN:VEVENT
DTSTART;VALUE=DATE:20260123
DTEND;VALUE=DATE:20260124
DTSTAMP:20260425T165228
CREATED:20250713T225638Z
LAST-MODIFIED:20250713T225638Z
UID:504096-1769126400-1769212799@www.yeshivatshaaretorah.com
SUMMARY:Parashat Bo 4:44
DESCRIPTION:Parashat Bo 4:44
URL:https://www.yeshivatshaaretorah.com/event/parashat-bo-444/
END:VEVENT
BEGIN:VEVENT
DTSTART;VALUE=DATE:20260130
DTEND;VALUE=DATE:20260131
DTSTAMP:20260425T165228
CREATED:20250713T225718Z
LAST-MODIFIED:20250713T225718Z
UID:504098-1769731200-1769817599@www.yeshivatshaaretorah.com
SUMMARY:Parashat Beshalach 4:53
DESCRIPTION:Parashat Beshalach 4:53
URL:https://www.yeshivatshaaretorah.com/event/parashat-beshalach-453/
END:VEVENT
END:VCALENDAR