BEGIN:VCALENDAR
VERSION:2.0
PRODID:-//Yeshivat Shaare Torah - ECPv6.14.2//NONSGML v1.0//EN
CALSCALE:GREGORIAN
METHOD:PUBLISH
X-ORIGINAL-URL:https://www.yeshivatshaaretorah.com
X-WR-CALDESC:Events for Yeshivat Shaare Torah
REFRESH-INTERVAL;VALUE=DURATION:PT1H
X-Robots-Tag:noindex
X-PUBLISHED-TTL:PT1H
BEGIN:VTIMEZONE
TZID:America/New_York
BEGIN:DAYLIGHT
TZOFFSETFROM:-0500
TZOFFSETTO:-0400
TZNAME:EDT
DTSTART:20260308T070000
END:DAYLIGHT
BEGIN:STANDARD
TZOFFSETFROM:-0400
TZOFFSETTO:-0500
TZNAME:EST
DTSTART:20261101T060000
END:STANDARD
END:VTIMEZONE
BEGIN:VEVENT
DTSTART;VALUE=DATE:20260202
DTEND;VALUE=DATE:20260203
DTSTAMP:20260425T122248
CREATED:20250713T213820Z
LAST-MODIFIED:20250713T213820Z
UID:503981-1769990400-1770076799@www.yeshivatshaaretorah.com
SUMMARY:Tu B'Shvat
DESCRIPTION:Tu B’Shvat
URL:https://www.yeshivatshaaretorah.com/event/tu-bshvat-3/
END:VEVENT
BEGIN:VEVENT
DTSTART;VALUE=DATE:20260206
DTEND;VALUE=DATE:20260207
DTSTAMP:20260425T122248
CREATED:20250713T225759Z
LAST-MODIFIED:20250713T225759Z
UID:504100-1770336000-1770422399@www.yeshivatshaaretorah.com
SUMMARY:Parashat Yitro 5:01
DESCRIPTION:Parashat Yitro 5:01
URL:https://www.yeshivatshaaretorah.com/event/parashat-yitro-501/
END:VEVENT
BEGIN:VEVENT
DTSTART;VALUE=DATE:20260208
DTEND;VALUE=DATE:20260209
DTSTAMP:20260425T122248
CREATED:20250713T213921Z
LAST-MODIFIED:20250713T213921Z
UID:503983-1770508800-1770595199@www.yeshivatshaaretorah.com
SUMMARY:BES 3rd Grade Hatchalat Mishna
DESCRIPTION:BES 3rd Grade Hatchalat Mishna
URL:https://www.yeshivatshaaretorah.com/event/bes-3rd-grade-hatchalat-mishna/
END:VEVENT
BEGIN:VEVENT
DTSTART;VALUE=DATE:20260213
DTEND;VALUE=DATE:20260214
DTSTAMP:20260425T122248
CREATED:20250713T225846Z
LAST-MODIFIED:20250713T225846Z
UID:504102-1770940800-1771027199@www.yeshivatshaaretorah.com
SUMMARY:Parashat Mishpatim 5:10
DESCRIPTION:Parashat Mishpatim 5:10
URL:https://www.yeshivatshaaretorah.com/event/parashat-mishpatim-510/
END:VEVENT
BEGIN:VEVENT
DTSTART;VALUE=DATE:20260214
DTEND;VALUE=DATE:20260215
DTSTAMP:20260425T122248
CREATED:20250713T215245Z
LAST-MODIFIED:20250713T215245Z
UID:503990-1771027200-1771113599@www.yeshivatshaaretorah.com
SUMMARY:Shabbat Shekalim
DESCRIPTION:Shabbat Shekalim
URL:https://www.yeshivatshaaretorah.com/event/shabbat-shekalim-4/
END:VEVENT
BEGIN:VEVENT
DTSTART;VALUE=DATE:20260216
DTEND;VALUE=DATE:20260217
DTSTAMP:20260425T122248
CREATED:20250713T214630Z
LAST-MODIFIED:20250713T214630Z
UID:503985-1771200000-1771286399@www.yeshivatshaaretorah.com
SUMMARY:Presidents Day/Staff Development Day
DESCRIPTION:Presidents Day/Staff Development Day \nToddler/Preschool/GES No Sessions \nBES 12:00 Dismissal \nBHS 12:30 Dismissal \nGHS No sessions
URL:https://www.yeshivatshaaretorah.com/event/presidents-day-staff-development-day-2/
END:VEVENT
BEGIN:VEVENT
DTSTART;VALUE=DATE:20260217
DTEND;VALUE=DATE:20260219
DTSTAMP:20260425T122248
CREATED:20250713T225936Z
LAST-MODIFIED:20250713T225936Z
UID:504104-1771286400-1771459199@www.yeshivatshaaretorah.com
SUMMARY:Rosh Chodesh Adar
DESCRIPTION:Rosh Chodesh Adar
URL:https://www.yeshivatshaaretorah.com/event/rosh-chodesh-adar/
END:VEVENT
BEGIN:VEVENT
DTSTART;VALUE=DATE:20260220
DTEND;VALUE=DATE:20260221
DTSTAMP:20260425T122248
CREATED:20250713T230021Z
LAST-MODIFIED:20250713T230021Z
UID:504106-1771545600-1771631999@www.yeshivatshaaretorah.com
SUMMARY:Parashat Terumah 5:18
DESCRIPTION:Parashat Terumah 5:18
URL:https://www.yeshivatshaaretorah.com/event/parashat-terumah-518/
END:VEVENT
BEGIN:VEVENT
DTSTART;VALUE=DATE:20260222
DTEND;VALUE=DATE:20260223
DTSTAMP:20260425T122248
CREATED:20250713T215102Z
LAST-MODIFIED:20250713T215102Z
UID:503988-1771718400-1771804799@www.yeshivatshaaretorah.com
SUMMARY:BES 5th Grade Hatchalat Gemara
DESCRIPTION:BES 5th Grade Hatchalat Gemara
URL:https://www.yeshivatshaaretorah.com/event/bes-5th-grade-hatchalat-gemara/
END:VEVENT
BEGIN:VEVENT
DTSTART;VALUE=DATE:20260227
DTEND;VALUE=DATE:20260228
DTSTAMP:20260425T122248
CREATED:20250713T230106Z
LAST-MODIFIED:20250713T230106Z
UID:504108-1772150400-1772236799@www.yeshivatshaaretorah.com
SUMMARY:Parashat Tetzaveh 5:26
DESCRIPTION:Parashat Tetzaveh 5:26
URL:https://www.yeshivatshaaretorah.com/event/parashat-tetzaveh-526/
END:VEVENT
BEGIN:VEVENT
DTSTART;VALUE=DATE:20260228
DTEND;VALUE=DATE:20260301
DTSTAMP:20260425T122248
CREATED:20250713T215333Z
LAST-MODIFIED:20250713T215333Z
UID:503992-1772236800-1772323199@www.yeshivatshaaretorah.com
SUMMARY:Parashat Zachor
DESCRIPTION:Parashat Zachor
URL:https://www.yeshivatshaaretorah.com/event/parashat-zachor-3/
END:VEVENT
END:VCALENDAR