BEGIN:VCALENDAR
VERSION:2.0
PRODID:-//Yeshivat Shaare Torah - ECPv6.14.2//NONSGML v1.0//EN
CALSCALE:GREGORIAN
METHOD:PUBLISH
X-ORIGINAL-URL:https://www.yeshivatshaaretorah.com
X-WR-CALDESC:Events for Yeshivat Shaare Torah
REFRESH-INTERVAL;VALUE=DURATION:PT1H
X-Robots-Tag:noindex
X-PUBLISHED-TTL:PT1H
BEGIN:VTIMEZONE
TZID:America/New_York
BEGIN:DAYLIGHT
TZOFFSETFROM:-0500
TZOFFSETTO:-0400
TZNAME:EDT
DTSTART:20260308T070000
END:DAYLIGHT
BEGIN:STANDARD
TZOFFSETFROM:-0400
TZOFFSETTO:-0500
TZNAME:EST
DTSTART:20261101T060000
END:STANDARD
END:VTIMEZONE
BEGIN:VEVENT
DTSTART;VALUE=DATE:20260605
DTEND;VALUE=DATE:20260606
DTSTAMP:20260425T120039
CREATED:20250713T231727Z
LAST-MODIFIED:20250713T231727Z
UID:504140-1780617600-1780703999@www.yeshivatshaaretorah.com
SUMMARY:Parashat Beha'alotcha 8:05
DESCRIPTION:Parashat Beha’alotcha 8:05
URL:https://www.yeshivatshaaretorah.com/event/parashat-behaalotcha-805/
END:VEVENT
BEGIN:VEVENT
DTSTART;VALUE=DATE:20260608
DTEND;VALUE=DATE:20260609
DTSTAMP:20260425T120039
CREATED:20250713T222432Z
LAST-MODIFIED:20250713T222432Z
UID:504035-1780876800-1780963199@www.yeshivatshaaretorah.com
SUMMARY:BHS Graduation
DESCRIPTION:BHS Graduation
URL:https://www.yeshivatshaaretorah.com/event/bhs-graduation-4/
END:VEVENT
BEGIN:VEVENT
DTSTART;VALUE=DATE:20260609
DTEND;VALUE=DATE:20260610
DTSTAMP:20260425T120039
CREATED:20250713T222509Z
LAST-MODIFIED:20250713T222509Z
UID:504037-1780963200-1781049599@www.yeshivatshaaretorah.com
SUMMARY:GHS Graduation
DESCRIPTION:GHS Graduation
URL:https://www.yeshivatshaaretorah.com/event/ghs-graduation-4/
END:VEVENT
BEGIN:VEVENT
DTSTART;VALUE=DATE:20260610
DTEND;VALUE=DATE:20260611
DTSTAMP:20260425T120039
CREATED:20250713T222550Z
LAST-MODIFIED:20250713T222550Z
UID:504039-1781049600-1781135999@www.yeshivatshaaretorah.com
SUMMARY:GES Graduation
DESCRIPTION:GES Graduation
URL:https://www.yeshivatshaaretorah.com/event/ges-graduation-3/
END:VEVENT
BEGIN:VEVENT
DTSTART;VALUE=DATE:20260611
DTEND;VALUE=DATE:20260612
DTSTAMP:20260425T120039
CREATED:20250713T222631Z
LAST-MODIFIED:20250713T222631Z
UID:504041-1781136000-1781222399@www.yeshivatshaaretorah.com
SUMMARY:BES Graduation
DESCRIPTION:BES Graduation
URL:https://www.yeshivatshaaretorah.com/event/bes-graduation-4/
END:VEVENT
BEGIN:VEVENT
DTSTART;VALUE=DATE:20260612
DTEND;VALUE=DATE:20260613
DTSTAMP:20260425T120039
CREATED:20250713T231817Z
LAST-MODIFIED:20250713T231817Z
UID:504142-1781222400-1781308799@www.yeshivatshaaretorah.com
SUMMARY:Parashat Sh'lach 8:09
DESCRIPTION:Parashat Sh’lach 8:09
URL:https://www.yeshivatshaaretorah.com/event/parashat-shlach-809/
END:VEVENT
BEGIN:VEVENT
DTSTART;VALUE=DATE:20260615
DTEND;VALUE=DATE:20260617
DTSTAMP:20260425T120039
CREATED:20250713T231940Z
LAST-MODIFIED:20250713T231940Z
UID:504144-1781481600-1781654399@www.yeshivatshaaretorah.com
SUMMARY:Rosh Chodesh Tamuz
DESCRIPTION:Rosh Chodesh Tamuz
URL:https://www.yeshivatshaaretorah.com/event/rosh-chodesh-tamuz/
END:VEVENT
BEGIN:VEVENT
DTSTART;VALUE=DATE:20260617
DTEND;VALUE=DATE:20260618
DTSTAMP:20260425T120039
CREATED:20250713T222814Z
LAST-MODIFIED:20250713T222814Z
UID:504043-1781654400-1781740799@www.yeshivatshaaretorah.com
SUMMARY:Last Day Of School
DESCRIPTION:Last Day Of School \nToddler/Preschool/BES 12:00 Dismissal \nGES 12:15 Dismissal \n 
URL:https://www.yeshivatshaaretorah.com/event/last-day-of-school-6/
END:VEVENT
BEGIN:VEVENT
DTSTART;VALUE=DATE:20260619
DTEND;VALUE=DATE:20260620
DTSTAMP:20260425T120039
CREATED:20250713T232036Z
LAST-MODIFIED:20250713T232036Z
UID:504146-1781827200-1781913599@www.yeshivatshaaretorah.com
SUMMARY:Parashat Korach 8:11
DESCRIPTION:Parashat Korach 8:11
URL:https://www.yeshivatshaaretorah.com/event/parashat-korach-811-2/
END:VEVENT
BEGIN:VEVENT
DTSTART;VALUE=DATE:20260625
DTEND;VALUE=DATE:20260626
DTSTAMP:20260425T120039
CREATED:20250713T222916Z
LAST-MODIFIED:20250713T222916Z
UID:504045-1782345600-1782431999@www.yeshivatshaaretorah.com
SUMMARY:Last Day Of HS Regents
DESCRIPTION:Last Day Of HS Regents
URL:https://www.yeshivatshaaretorah.com/event/last-day-of-hs-regents-3/
END:VEVENT
BEGIN:VEVENT
DTSTART;VALUE=DATE:20260626
DTEND;VALUE=DATE:20260627
DTSTAMP:20260425T120039
CREATED:20250713T232134Z
LAST-MODIFIED:20250713T232134Z
UID:504148-1782432000-1782518399@www.yeshivatshaaretorah.com
SUMMARY:Parashat Chukat-Balak 8:12
DESCRIPTION:Parashat Chukat-Balak 8:12
URL:https://www.yeshivatshaaretorah.com/event/parashat-chukat-balak-812/
END:VEVENT
END:VCALENDAR